BEGIN:VCALENDAR
VERSION:2.0
PRODID:-//HistoryMiami Museum - ECPv5.15.0.1//NONSGML v1.0//EN
CALSCALE:GREGORIAN
METHOD:PUBLISH
X-WR-CALNAME:HistoryMiami Museum
X-ORIGINAL-URL:https://staging.historymiami.org
X-WR-CALDESC:Events for HistoryMiami Museum
BEGIN:VTIMEZONE
TZID:America/Chicago
BEGIN:DAYLIGHT
TZOFFSETFROM:-0600
TZOFFSETTO:-0500
TZNAME:CDT
DTSTART:20170312T080000
END:DAYLIGHT
BEGIN:STANDARD
TZOFFSETFROM:-0500
TZOFFSETTO:-0600
TZNAME:CST
DTSTART:20171105T070000
END:STANDARD
END:VTIMEZONE
BEGIN:VEVENT
DTSTART;TZID=America/Chicago:20171019T140000
DTEND;TZID=America/Chicago:20171019T150000
DTSTAMP:20260419T155104
CREATED:20170920T015500Z
LAST-MODIFIED:20220614T071811Z
UID:17211-1508421600-1508425200@staging.historymiami.org
SUMMARY:2017 Read for the Record
DESCRIPTION:Join HistoryMiami Museum and the Early Learning Coalition of Miami‐Dade/Monroe for the 2017 Jumpstart’s Read for the Record® annual campaign. This year’s book\, Quackers by Liz Wong\, a heartwarming story about a kitten\, who grows up believing that he’s a duck\, until he meets another kitten. This tale is about understanding\, acceptance\, and learning it’s ok to be whoever you want to be. \nAll participating children will receive a free copy of the book. \nClick here to RSVP. \nPartners: \n    
URL:https://staging.historymiami.org/event/2017-read-for-the-record/
CATEGORIES:Previous Event
ATTACH;FMTTYPE=image/jpeg:https://staging.historymiami.org/wp-content/uploads/Quackers3-e1505854469298.jpg
END:VEVENT
END:VCALENDAR