BEGIN:VCALENDAR
VERSION:2.0
PRODID:-//HistoryMiami Museum - ECPv5.15.0.1//NONSGML v1.0//EN
CALSCALE:GREGORIAN
METHOD:PUBLISH
X-WR-CALNAME:HistoryMiami Museum
X-ORIGINAL-URL:https://staging.historymiami.org
X-WR-CALDESC:Events for HistoryMiami Museum
BEGIN:VTIMEZONE
TZID:America/Chicago
BEGIN:DAYLIGHT
TZOFFSETFROM:-0600
TZOFFSETTO:-0500
TZNAME:CDT
DTSTART:20180311T080000
END:DAYLIGHT
BEGIN:STANDARD
TZOFFSETFROM:-0500
TZOFFSETTO:-0600
TZNAME:CST
DTSTART:20181104T070000
END:STANDARD
END:VTIMEZONE
BEGIN:VEVENT
DTSTART;TZID=America/Chicago:20180203T100000
DTEND;TZID=America/Chicago:20180203T170000
DTSTAMP:20260419T141449
CREATED:20171121T212500Z
LAST-MODIFIED:20220614T071508Z
UID:17182-1517652000-1517677200@staging.historymiami.org
SUMMARY:2018 Miami International Map Fair
DESCRIPTION: Miami International Map Fair Admission:\nDaily Admission per person (One day access to the fair and lectures)\n\nHistoryMiami Museum Members: $15 per day\nLowe Art Museum Members (with Membership ID): $15 per day\nNon-Members: $20 per day\nUniversity Students (with valid school ID-available at the door) $10 per day\n\n  Full Access Weekend Registrant per person (All receptions\, weekend admission\, lunch and lectures)\n\nHistoryMiami Museum Members: $75\nNon-Members: $85\n\nBuy your Map Fair tickets now.\nMembers\, Sign In or Register on the online ticket form to receive your discount.\nSaturday Speakers:\nChet Van Duzer\n\nPublished Author\, Map Historian\, Speaker and National Endowment for the Humanities \nMellon Fellow at the Library of Congress \nPresentation Title: Sea Monsters on Medieval and Renaissance Maps \n  \nNeal Asbury\n \nEntrepreneur\, Published Author\, Speaker\, Host of a Nationally Syndicated Talk Radio Show \nCEO of The Legacy Companies\, Political Advocate of Free Enterprise and Avid Map Collector \n\nPresentation Title: Why I Collect Maps and What I Have Learned-Saturday\n\nCall 305-375-1618 for information on the Miami International Map Fair.\n\n\n  \n\n\n\n\n\n\nThe Miami International Map Fair thanks our yearly Miami Herald advertising sponsor:
URL:https://staging.historymiami.org/event/2018-miami-international-map-fair/
CATEGORIES:Previous Event
ATTACH;FMTTYPE=image/jpeg:https://staging.historymiami.org/wp-content/uploads/Map-Fair-Pictorial-Maps-2-e1511277891379.jpg
END:VEVENT
END:VCALENDAR