BEGIN:VCALENDAR
VERSION:2.0
PRODID:-//HistoryMiami Museum - ECPv5.15.0.1//NONSGML v1.0//EN
CALSCALE:GREGORIAN
METHOD:PUBLISH
X-WR-CALNAME:HistoryMiami Museum
X-ORIGINAL-URL:https://staging.historymiami.org
X-WR-CALDESC:Events for HistoryMiami Museum
BEGIN:VTIMEZONE
TZID:America/Chicago
BEGIN:DAYLIGHT
TZOFFSETFROM:-0600
TZOFFSETTO:-0500
TZNAME:CDT
DTSTART:20180311T080000
END:DAYLIGHT
BEGIN:STANDARD
TZOFFSETFROM:-0500
TZOFFSETTO:-0600
TZNAME:CST
DTSTART:20181104T070000
END:STANDARD
END:VTIMEZONE
BEGIN:VEVENT
DTSTART;TZID=America/Chicago:20181108T180000
DTEND;TZID=America/Chicago:20181108T200000
DTSTAMP:20260419T072514
CREATED:20181004T225200Z
LAST-MODIFIED:20220614T070624Z
UID:17012-1541700000-1541707200@staging.historymiami.org
SUMMARY:"A Peculiar Paradise" Opening Reception
DESCRIPTION:Be the first to see our newest exhibition at the opening reception with special guest photographer Nathan Benn. While on assignment for National Geographic\,  Benn captured Florida in 1981\, a moment in the state’s history made famous by Miami’s narcotics-related crime wave and influx of newcomers from the Caribbean. After nearly 40 years\, Benn has revisited his Florida image archive and A Peculiar Paradise will feature over 100 selections\, as well as artifacts related to his 20-year career at National Geographic. \nYour ticket to opening night includes complimentary beverages and light bites. \nMuseum Members: FREE \nNon-Members: $10 \nRegister now! \nHere Nathan talk about the crime wave in this video below!
URL:https://staging.historymiami.org/event/a-peculiar-paradise-opening-reception/
CATEGORIES:Previous Event
ATTACH;FMTTYPE=image/png:https://staging.historymiami.org/wp-content/uploads/Photo-for-web.png
END:VEVENT
END:VCALENDAR