BEGIN:VCALENDAR
VERSION:2.0
PRODID:-//HistoryMiami Museum - ECPv5.15.0.1//NONSGML v1.0//EN
CALSCALE:GREGORIAN
METHOD:PUBLISH
X-WR-CALNAME:HistoryMiami Museum
X-ORIGINAL-URL:https://staging.historymiami.org
X-WR-CALDESC:Events for HistoryMiami Museum
BEGIN:VTIMEZONE
TZID:America/Chicago
BEGIN:DAYLIGHT
TZOFFSETFROM:-0600
TZOFFSETTO:-0500
TZNAME:CDT
DTSTART:20180311T080000
END:DAYLIGHT
BEGIN:STANDARD
TZOFFSETFROM:-0500
TZOFFSETTO:-0600
TZNAME:CST
DTSTART:20181104T070000
END:STANDARD
END:VTIMEZONE
BEGIN:VEVENT
DTSTART;TZID=America/Chicago:20180811T120000
DTEND;TZID=America/Chicago:20180811T130000
DTSTAMP:20260419T091210
CREATED:20180605T210600Z
LAST-MODIFIED:20220614T070744Z
UID:17041-1533988800-1533992400@staging.historymiami.org
SUMMARY:Cigar Rolling From Start to Finish
DESCRIPTION:Take an exclusive tour of the Havana Classic Cigar Shop and learn from the experts about cigar production—from growing the perfect tobacco leaf to rolling a high quality cigar. In partnership with Havana Classic Cigar and On-Site Cigars. Ages 18+. \nRegister here\nMembers $20\, Non-Members $30\n  \nProgram location \nHavana Classic Cigar \n1419 SW 8th St \nMiami\, FL 33135 \n  \n  \n \n \n  \nPhoto credit: By Mstyslav Chernov\, via Wikimedia Commons
URL:https://staging.historymiami.org/event/cigar-rolling-from-start-to-finish/
CATEGORIES:Previous Event
ATTACH;FMTTYPE=image/jpeg:https://staging.historymiami.org/wp-content/uploads/Cigar-Rolling-Pic-1.jpg
END:VEVENT
END:VCALENDAR