BEGIN:VCALENDAR
VERSION:2.0
PRODID:-//HistoryMiami Museum - ECPv5.15.0.1//NONSGML v1.0//EN
CALSCALE:GREGORIAN
METHOD:PUBLISH
X-WR-CALNAME:HistoryMiami Museum
X-ORIGINAL-URL:https://staging.historymiami.org
X-WR-CALDESC:Events for HistoryMiami Museum
BEGIN:VTIMEZONE
TZID:America/Chicago
BEGIN:DAYLIGHT
TZOFFSETFROM:-0600
TZOFFSETTO:-0500
TZNAME:CDT
DTSTART:20190310T080000
END:DAYLIGHT
BEGIN:STANDARD
TZOFFSETFROM:-0500
TZOFFSETTO:-0600
TZNAME:CST
DTSTART:20191103T070000
END:STANDARD
END:VTIMEZONE
BEGIN:VEVENT
DTSTART;TZID=America/Chicago:20190302T140000
DTEND;TZID=America/Chicago:20190302T150000
DTSTAMP:20260419T035355
CREATED:20181120T212800Z
LAST-MODIFIED:20220614T070120Z
UID:16989-1551535200-1551538800@staging.historymiami.org
SUMMARY:Curator Highlights Tour – A Peculiar Paradise: Florida Photographs by Nathan Benn
DESCRIPTION:Join photographer Nathan Benn as he recalls his journey across the State of Florida while on assignment for National Geographic. Learn how he embraced color photography before it was considered an acceptable medium for serious documentary. Ticket purchase includes a copy of A Peculiar Paradise by Nathan Benn. \nCapacity is limited\, and advanced registration is required. Books must be claimed in-person. One book per ticket. Books are available on first-come\, first-served basis while supplies last. \nMembers: $10\nNon-Members: $20 \nRegister here.
URL:https://staging.historymiami.org/event/curator-highlights-tour-a-peculiar-paradise-florida-photographs-by-nathan-benn/
CATEGORIES:Previous Event
ATTACH;FMTTYPE=image/jpeg:https://staging.historymiami.org/wp-content/uploads/0X6A7721-e1542726966732-scaled.jpg
END:VEVENT
END:VCALENDAR