BEGIN:VCALENDAR
VERSION:2.0
PRODID:-//HistoryMiami Museum - ECPv5.15.0.1//NONSGML v1.0//EN
CALSCALE:GREGORIAN
METHOD:PUBLISH
X-WR-CALNAME:HistoryMiami Museum
X-ORIGINAL-URL:https://staging.historymiami.org
X-WR-CALDESC:Events for HistoryMiami Museum
BEGIN:VTIMEZONE
TZID:America/Chicago
BEGIN:DAYLIGHT
TZOFFSETFROM:-0600
TZOFFSETTO:-0500
TZNAME:CDT
DTSTART:20170312T080000
END:DAYLIGHT
BEGIN:STANDARD
TZOFFSETFROM:-0500
TZOFFSETTO:-0600
TZNAME:CST
DTSTART:20171105T070000
END:STANDARD
END:VTIMEZONE
BEGIN:VEVENT
DTSTART;TZID=America/Chicago:20170114T190000
DTEND;TZID=America/Chicago:20170114T230000
DTSTAMP:20260420T021605
CREATED:20161117T021200Z
LAST-MODIFIED:20220613T083405Z
UID:17386-1484420400-1484434800@staging.historymiami.org
SUMMARY:The Flamingo Ball - Benefiting HistoryMiami Museum
DESCRIPTION:Get ready to party like its 1925 (when Hialeah Park first raced horses)! The HistoryMiami Museum is swinging back to the 1920s with a Gatsby themed Flamingo Ball at Hialeah Park. Dinner and dancing\, open bar\, and much more. Table sponsors enjoy exclusive access to the Speakeasy Lounge offering a private pre-event reception\, exclusive hors d’oeuvres and signature cocktails! Funds benefit education programming at HistoryMiami Museum. The event will also honor Bob Dickinson and Brian Keeley with the Henry Flagler Award. Black tie or 1920s attire.\n\nBelow are the prices for sponsors and individual ticket prices:\n\nDiamond Flamingo Presenting Sponsor\, $30\,000 – Hialeah Park\n\nOne opportunity be presenting sponsor\, plus all of below benefits as the platinum sponsor. Plus one museum facility use for private event.\n\nPlatinum Flamingo Sponsor $15\,000 – Baptist Health South Florida\n\n\nOne preferred table for 10\, two page spread advertisement in program\, prominent name on sponsorship board at event\, Facebook post mentions\, link to sponsor website on Flamingo Ball Facebook event page and on historymiami.org page\, promotion on Instagram and Twitter\, name included on press release\, pre-cocktail party entry before event for ten guests\, recognition at the event\, recognition in program\, complimentary valet parking\, and logo on four HistoryMiami e-blasts to database.\n\nGold Flamingo Sponsor $10\,000 – Frank Del Rio\, President & CEO\, Norwegian Cruise Line Holdings\, Ltd.\n\n\nOne table for 10\, one full page ad in the program\, name on sponsorship board at the event\, Facebook\, Twitter\, and Instagram promotion\, link to sponsor page at historymiami.org and Flamingo Ball Facebook event page\, access to pre-cocktail party for ten\, name included in press releases\, recognition at the event\, recognition in program\, complimentary valet parking and logo on one HistoryMiami e-blast.\n\nSilver Flamingo Sponsor $5\,000 –  Lynx Companies\, Carnival Cruise Line\, Victor and Lisa Mendelson\, and Camillus House\n\nSix tickets\, one full page ad in the ball program\, name on sponsorship board at event\, Facebook event page mention and link to sponsor website\, link to sponsor website via webpage historymiami.org\, program recognition\, and complimentary valet parking.\n\nPink Flamingo $1\,000 – Neil Salem\, Matthew Meehan & Rod Hildebrant\, and Marino and Karelia Carbonell\n\n\nTwo Tickets\, one full page ad in the program\, Facebook post recognition as sponsor\, invite for two to the pre-event cocktail party\, and complimentary valet\, mention in program as sponsor.\n\nTable Sponsor of 10: $2\,500 – recognition in program book.\n\nIndividual Ticket\, $250\nDonors $5\,000 Level\nSwanee and Paul DiMare\nManny Medina\nTo purchase your ticket click here.\n\nFor more information on sponsorships contact Michele Reese at mreese@historymiami.org.
URL:https://staging.historymiami.org/event/flamingo-ball-a-toast-to-the-roaring-20s/
CATEGORIES:Previous Event
ATTACH;FMTTYPE=image/jpeg:https://staging.historymiami.org/wp-content/uploads/IMG_9577-e1470035140581-rotated.jpg
END:VEVENT
END:VCALENDAR