BEGIN:VCALENDAR
VERSION:2.0
PRODID:-//HistoryMiami Museum - ECPv5.15.0.1//NONSGML v1.0//EN
CALSCALE:GREGORIAN
METHOD:PUBLISH
X-WR-CALNAME:HistoryMiami Museum
X-ORIGINAL-URL:https://staging.historymiami.org
X-WR-CALDESC:Events for HistoryMiami Museum
BEGIN:VTIMEZONE
TZID:America/Chicago
BEGIN:DAYLIGHT
TZOFFSETFROM:-0600
TZOFFSETTO:-0500
TZNAME:CDT
DTSTART:20170312T080000
END:DAYLIGHT
BEGIN:STANDARD
TZOFFSETFROM:-0500
TZOFFSETTO:-0600
TZNAME:CST
DTSTART:20171105T070000
END:STANDARD
END:VTIMEZONE
BEGIN:VEVENT
DTSTART;TZID=America/Chicago:20171202T140000
DTEND;TZID=America/Chicago:20171202T150000
DTSTAMP:20260419T160623
CREATED:20170802T211500Z
LAST-MODIFIED:20220614T071522Z
UID:17223-1512223200-1512226800@staging.historymiami.org
SUMMARY:Hands-On-History: Holidays Around the World
DESCRIPTION:Join a Museum Educator every Saturday for story time followed by a related art activity. Free for participating children and caregivers. \nRing in the joy of the holidays at the museum with some of the season’s favorite crafts and stories from around the world. \nReading Schedule\nDecember 2nd  \nThe Twelve Days of Christmas in Florida by Frank Remkiewicz \nLa Noche Buena by Antonio Sacre \nDecember 16th  \nRashad’s Ramadan and Eid al-Fitr by Lisa Bullard \nThe Hanukkah Hop by Erica Silverman \nDecember 23rd \nThe Night of Las Posadas by Tomie dePaola \nThe Night Before Christmas illustrated by Mary Engelbreit \nDecember 30th  \nMy First Kwanzaa by Karen Katz \nBringing In The New Year by Grace Lin \n  \n*** Weekend programming not available on second Saturdays due to Free Family Fun Days\, and it is subject to change without notice. \nImage: Via Flickr/Tim Sackton
URL:https://staging.historymiami.org/event/hands-on-history-holidays-around-the-world/
CATEGORIES:Previous Event
ATTACH;FMTTYPE=image/jpeg:https://staging.historymiami.org/wp-content/uploads/lights-e1535651754727.jpg
END:VEVENT
END:VCALENDAR