BEGIN:VCALENDAR
VERSION:2.0
PRODID:-//HistoryMiami Museum - ECPv5.15.0.1//NONSGML v1.0//EN
CALSCALE:GREGORIAN
METHOD:PUBLISH
X-WR-CALNAME:HistoryMiami Museum
X-ORIGINAL-URL:https://staging.historymiami.org
X-WR-CALDESC:Events for HistoryMiami Museum
BEGIN:VTIMEZONE
TZID:America/Chicago
BEGIN:DAYLIGHT
TZOFFSETFROM:-0600
TZOFFSETTO:-0500
TZNAME:CDT
DTSTART:20170312T080000
END:DAYLIGHT
BEGIN:STANDARD
TZOFFSETFROM:-0500
TZOFFSETTO:-0600
TZNAME:CST
DTSTART:20171105T070000
END:STANDARD
END:VTIMEZONE
BEGIN:VEVENT
DTSTART;TZID=America/Chicago:20171104T140000
DTEND;TZID=America/Chicago:20171104T150000
DTSTAMP:20260419T160549
CREATED:20170802T204700Z
LAST-MODIFIED:20220614T071805Z
UID:17232-1509804000-1509807600@staging.historymiami.org
SUMMARY:Hands-On-History: Native American Heritage
DESCRIPTION:Join a Museum Educator every Saturday for story time followed by a related art activity. Free for participating children. Caregivers must pay general museum admission. \nLearn the inspiring story of Betty Mae Tiger Jumper\, one of modern America’s first female elected tribal leader and design a Seminole patchwork vest. \n*** Weekend programming not available on second Saturdays due to Free Family Fun Days\, and it is subject to change without notice.
URL:https://staging.historymiami.org/event/hands-on-history-native-american-heritage/
CATEGORIES:Previous Event
ATTACH;FMTTYPE=image/jpeg:https://staging.historymiami.org/wp-content/uploads/IMG_6791-scaled.jpg
END:VEVENT
END:VCALENDAR