BEGIN:VCALENDAR
VERSION:2.0
PRODID:-//HistoryMiami Museum - ECPv5.15.0.1//NONSGML v1.0//EN
CALSCALE:GREGORIAN
METHOD:PUBLISH
X-WR-CALNAME:HistoryMiami Museum
X-ORIGINAL-URL:https://staging.historymiami.org
X-WR-CALDESC:Events for HistoryMiami Museum
BEGIN:VTIMEZONE
TZID:America/Chicago
BEGIN:DAYLIGHT
TZOFFSETFROM:-0600
TZOFFSETTO:-0500
TZNAME:CDT
DTSTART:20160313T080000
END:DAYLIGHT
BEGIN:STANDARD
TZOFFSETFROM:-0500
TZOFFSETTO:-0600
TZNAME:CST
DTSTART:20161106T070000
END:STANDARD
END:VTIMEZONE
BEGIN:VEVENT
DTSTART;TZID=America/Chicago:20160914T173000
DTEND;TZID=America/Chicago:20160914T193000
DTSTAMP:20260420T082407
CREATED:20160817T190200Z
LAST-MODIFIED:20220613T083744Z
UID:17328-1473874200-1473881400@staging.historymiami.org
SUMMARY:Happy Hour with Dr. George
DESCRIPTION:Come out for a Happy Hour with Dr. George and enjoy a history lesson on Downtown Miami while you sip on your favorite libation. Ticket gets you a drink and a chance to listen in while the Doc takes you through a storied tour without you ever having to move from the historic Langford’s Pawnbroker lounge.\n\nTo purchase tickets click here.
URL:https://staging.historymiami.org/event/happy-hour-with-dr-george/
CATEGORIES:Previous Event
ATTACH;FMTTYPE=image/jpeg:https://staging.historymiami.org/wp-content/uploads/pawnbroker.jpg
END:VEVENT
END:VCALENDAR