BEGIN:VCALENDAR
VERSION:2.0
PRODID:-//HistoryMiami Museum - ECPv5.15.0.1//NONSGML v1.0//EN
CALSCALE:GREGORIAN
METHOD:PUBLISH
X-WR-CALNAME:HistoryMiami Museum
X-ORIGINAL-URL:https://staging.historymiami.org
X-WR-CALDESC:Events for HistoryMiami Museum
BEGIN:VTIMEZONE
TZID:America/Chicago
BEGIN:DAYLIGHT
TZOFFSETFROM:-0600
TZOFFSETTO:-0500
TZNAME:CDT
DTSTART:20170312T080000
END:DAYLIGHT
BEGIN:STANDARD
TZOFFSETFROM:-0500
TZOFFSETTO:-0600
TZNAME:CST
DTSTART:20171105T070000
END:STANDARD
END:VTIMEZONE
BEGIN:VEVENT
DTSTART;TZID=America/Chicago:20170624T130000
DTEND;TZID=America/Chicago:20170624T143000
DTSTAMP:20260419T212511
CREATED:20170215T040300Z
LAST-MODIFIED:20220614T073228Z
UID:17344-1498309200-1498314600@staging.historymiami.org
SUMMARY:SOLD-OUT Master Class: Ikebana (flower arranging)
DESCRIPTION:Learn from the best! Master artist Mieko Kubota will teach you how to create unique floral arrangements that reflect Japanese tradition. Take home your creation. Supplies included. Beginners welcome. Recommended for ages 13+. Space is limited and advanced reservations and payment required. Register online or call 305-375-1492. \nMembers: $15 \nNon-Members: $30 \nREGISTER\n  \n 
URL:https://staging.historymiami.org/event/master-class-ikebana-flower-arranging/
CATEGORIES:Previous Event
ATTACH;FMTTYPE=image/jpeg:https://staging.historymiami.org/wp-content/uploads/2011_12_06-Photographs-by-Bob-Stone_5317-R-V1-800X72-e1487109696268.jpg
END:VEVENT
END:VCALENDAR