BEGIN:VCALENDAR
VERSION:2.0
PRODID:-//HistoryMiami Museum - ECPv5.15.0.1//NONSGML v1.0//EN
CALSCALE:GREGORIAN
METHOD:PUBLISH
X-WR-CALNAME:HistoryMiami Museum
X-ORIGINAL-URL:https://staging.historymiami.org
X-WR-CALDESC:Events for HistoryMiami Museum
BEGIN:VTIMEZONE
TZID:America/Chicago
BEGIN:DAYLIGHT
TZOFFSETFROM:-0600
TZOFFSETTO:-0500
TZNAME:CDT
DTSTART:20210314T080000
END:DAYLIGHT
BEGIN:STANDARD
TZOFFSETFROM:-0500
TZOFFSETTO:-0600
TZNAME:CST
DTSTART:20211107T070000
END:STANDARD
END:VTIMEZONE
BEGIN:VEVENT
DTSTART;TZID=America/Chicago:20211209T113000
DTEND;TZID=America/Chicago:20211209T123000
DTSTAMP:20260421T073739
CREATED:20210825T233800Z
LAST-MODIFIED:20220614T061100Z
UID:16565-1639049400-1639053000@staging.historymiami.org
SUMMARY:Member Event: Farm to Table 305-Virtual
DESCRIPTION:Whether your diet is plant based or not\, you can always enhance your life and health with fresh produce – grown and sold right here in South Florida. \nThis webinar introduces you to the history of farming in South Florida with historian Jeff Blakely\, and to Urban Oasis Project and Heritage Market\, two organizations on a shared mission of growing and supporting local agriculture while making fresh\, farm-to-table food accessible and available to all. Your taste buds and body will thank you as you acquire\, eat\, and savor organic delights\, grown thoughtfully and responsibly with love in the 305. \nOur Presenters: \nJeff Blakley\, Independent South Dade Historian \nDavid Torcise\, Heritage Market \nArt Friedrich\, Urban Oasis Project \nChef Chantelle Sookram\, Urban Oasis Project \nGet Your Produce Box: \nProduce boxes containing locally grown tomatoes\, lettuce\, eggplant\, pink lemons and more seasonal offerings will be available for a limited time for purchase prior to the event for $20. To order\, contact Art Friedrich at Art@UrbanOasisProject.org. \nAfter your purchase\, pick up your box at one of these locations: \n\nLegion Park Farmers Market\, 6601 Biscayne Blvd. – Saturdays 9 a.m. to 2 p.m.\nSouth Miami Farmers Market\, 6130 Sunset Dr. – Saturdays 9 a.m. to 2 p.m.\nVizcaya Village Farmers Market\, 3250 S. Miami Ave. – Sundays 9 a.m. to 2 p.m\n\nRegister Here\n\nTo request materials in accessible format\, sign language interpreters\, and/or any disability accommodation\, please contact Hana Squires\, Accessibility Coordinator\, at accessibility@historymiami.org or call (305) 375-1621 at least two weeks in advance of your visit to initiate your request. TTY users may also call 711 (Florida Relay Service.) \n   ASL interpretation is available for this program. \nRecommended for ages 13+ \nBe advised that audio and video recording during this program is prohibited without written consent from HistoryMiami Museum. \nBy entering the premises\, you consent to interview(s)\, photography\, audio recording\, video recording and its/their release\, publication\, exhibition\, or reproduction to be used for news\, web casts\, promotional purposes\, telecasts\, advertising\, inclusion on web sites\, or any other purpose by HistoryMiami Museum (HMM) and its affiliates and representatives. You release HistoryMiami Museum (HMM) its officers and employees\, and each and all persons involved from any liability connected with the taking\, recording\, digitizing\, or publication of interviews\, photographs\, computer images\, video and/or or sound recordings. By entering the premises\, you waive all rights you may have to any claims for payment or royalties in connection with any exhibition\, streaming\, webcasting\, televising\, or other publication of these materials\, regardless of the purpose or sponsoring of such exhibiting\, broadcasting\, webcasting\, or other publication irrespective of whether a fee for admission or sponsorship is charged. You also waive any right to inspect or approve any photo\, video\, or audio recording taken by HistoryMiami Museum (HMM) or the person or entity designated to do so by HistoryMiami Museum (HMM) You have been fully informed of your consent\, waiver of liability\, and release before entering the premise.
URL:https://staging.historymiami.org/event/members-only-farm-to-table-305-virtual-2/
CATEGORIES:Previous Event
ATTACH;FMTTYPE=image/jpeg:https://staging.historymiami.org/wp-content/uploads/Fresh-Fruit-image.jpg
END:VEVENT
END:VCALENDAR