BEGIN:VCALENDAR
VERSION:2.0
PRODID:-//HistoryMiami Museum - ECPv5.15.0.1//NONSGML v1.0//EN
CALSCALE:GREGORIAN
METHOD:PUBLISH
X-WR-CALNAME:HistoryMiami Museum
X-ORIGINAL-URL:https://staging.historymiami.org
X-WR-CALDESC:Events for HistoryMiami Museum
BEGIN:VTIMEZONE
TZID:America/Chicago
BEGIN:DAYLIGHT
TZOFFSETFROM:-0600
TZOFFSETTO:-0500
TZNAME:CDT
DTSTART:20160313T080000
END:DAYLIGHT
BEGIN:STANDARD
TZOFFSETFROM:-0500
TZOFFSETTO:-0600
TZNAME:CST
DTSTART:20161106T070000
END:STANDARD
END:VTIMEZONE
BEGIN:VEVENT
DTSTART;TZID=America/Chicago:20160929T173000
DTEND;TZID=America/Chicago:20160929T200000
DTSTAMP:20260420T065637
CREATED:20160817T191200Z
LAST-MODIFIED:20220613T083524Z
UID:17402-1475170200-1475179200@staging.historymiami.org
SUMMARY:Miami Attractions Month
DESCRIPTION:Join HistoryMiami and the Greater Miami Convention and Visitors Bureau for an exciting Miami Attractions Month kick-off party. Miami’s many attractions will be onsite with special giveaways and information about their Miami Attractions Month deals\, which include Buy-One-Get-One Admission and other October offerings. Join us promptly after work to get your weekend started with gallery tours\, cocktails\, and delicious bites as we celebrate the great attractions the Magic City has to offer.\n\nRSVP HERE
URL:https://staging.historymiami.org/event/miami-attractions-month/
CATEGORIES:Previous Event
ATTACH;FMTTYPE=image/jpeg:https://staging.historymiami.org/wp-content/uploads/Up-Down-Installation.jpg
END:VEVENT
END:VCALENDAR