BEGIN:VCALENDAR
VERSION:2.0
PRODID:-//HistoryMiami Museum - ECPv5.15.0.1//NONSGML v1.0//EN
CALSCALE:GREGORIAN
METHOD:PUBLISH
X-WR-CALNAME:HistoryMiami Museum
X-ORIGINAL-URL:https://staging.historymiami.org
X-WR-CALDESC:Events for HistoryMiami Museum
BEGIN:VTIMEZONE
TZID:America/Chicago
BEGIN:DAYLIGHT
TZOFFSETFROM:-0600
TZOFFSETTO:-0500
TZNAME:CDT
DTSTART:20170312T080000
END:DAYLIGHT
BEGIN:STANDARD
TZOFFSETFROM:-0500
TZOFFSETTO:-0600
TZNAME:CST
DTSTART:20171105T070000
END:STANDARD
END:VTIMEZONE
BEGIN:VEVENT
DTSTART;TZID=America/Chicago:20171207T100000
DTEND;TZID=America/Chicago:20171210T170000
DTSTAMP:20260419T160839
CREATED:20171102T020200Z
LAST-MODIFIED:20220614T071520Z
UID:17194-1512640800-1512925200@staging.historymiami.org
SUMMARY:Miami Street Photography Festival 2017
DESCRIPTION:2017 MSPF SCHEDULE OF EVENTS (Schedule subject to change) \nALL FESTIVAL EVENTS AND EXHIBITS ARE FREE AND OPEN TO THE PUBLIC \nThu-Sat 10 AM-10 PM\,  Sun 12 PM- 5 PM \nThe Miami Street Photography Festival\, sponsored by Leica Camera USA\, is an international photography festival\,  showcasing the best of contemporary Street Photography viewed through the eyes of emerging photographers in this genre.  The goal of the Festival is to establish a global platform for learning through exhibitions\, workshops\, lectures and other events. A panel of internationally accomplished street photographers will select images to be this year’s MSPF Finalists.  This exhibit of those photos will be on display from December 7-10. The festival is presented by the HistoryMiami Center for Photography\, which is  sponsored by The Knight Foundation and  John and Susannah Shubin.  Click here to Register for your free ticket.  \nAs part of the festival legendary photographers Costa Manos\, Harvey Stein\, Vineet Vohra\, Maggie Steber\, Ibarionex Perello will host special workshops. \nWednesday\, Dec. 6       \n7:30 pre-opening festival event                Leica Store Miami\, exhibit opening – “The Eyes of the City”. \nThursday\, Dec. 7    \n10:00          Get your hands on a Leica- camera loan \n11:00          Gallery tour  with Rick McCawley \n1:30-2:30    Street photography talk with Rick McCawley \n3:00-4:00    Photography projects @MSPF: Niki Gleoudis \n4:30-6:00   Photo walk with Gabe Sanchez \n4:30-5:30    Artist Talk: Joseph Michael Lopez \n5:30-6:30    Exhibit opening American Color /Florida Pictures \n6:30- 7:00   Book signing and print sale by Constantine Manos \n7:00-8:00    Opening reception. Open to the public \n8:00             Artist talk:  Alessandra Sanguinetti \nFriday\, Dec. 8     \n10:00             Get your hands on a Leica- camera loan \n10:00-1:00    Masterclass with Ibarionex Perello (with small fee) \n11:00-1:00    Photo walk with Yarum Briceño\, photographer and instagrammer \n11:00             Gallery tour with Rick McCawley \n2:00-3:00     Photography projects @MSPF:  Forrest Walker “100 cities in living color” \n3:30-4:30     Artist Talk: Donato di Camillo \n5:00-6:00     Artist Talk:  Constantine Manos \n6:30-7:30     Live podcast interview – The Candid Frame with Ibarionex Perello \n6:30-8:30    Photo walk with Tony Sarria \n8:00             Artist talk:  Richard Sandler \nSaturday\, Dec. 9 \n10:00           Get your hands on a Leica- camera loan \n11:00            Walk and talk gallery tour with Rick McCawley \n12:00-1:00   Live podcast interview- The Candid frame with Ibarionex Perello \n1:30-2:30    Meet and greet with street photographers \n3:00-4:00    MPSF Street Photo Slam \n4:30-5:30    Artist Talk: Maggie Steber \n5:30-7:30    Photo walk with Nikk La \n6:00-6:30    MPSF workshop students slideshow \n7:00 – 8:00  Artist Talk- Larry Fink \n8:00-10:00  MSPF awards announcements\, followed by MSPF closing party.  Open to the public. \nSunday\, Dec 10 \n12:00            Get your hands on a Leica- camera loan \n12:30-2:30   Photo walk- Igers Miami \n1:00             Meet and greet with street photographers \n2:00             Film Screening  “Koudelka: Shooting Holy Land” \n 
URL:https://staging.historymiami.org/event/miami-street-photography-festival-2017/
CATEGORIES:Previous Event
ATTACH;FMTTYPE=image/png:https://staging.historymiami.org/wp-content/uploads/mspf-snip.png
END:VEVENT
END:VCALENDAR