BEGIN:VCALENDAR
VERSION:2.0
PRODID:-//HistoryMiami Museum - ECPv5.15.0.1//NONSGML v1.0//EN
CALSCALE:GREGORIAN
METHOD:PUBLISH
X-WR-CALNAME:HistoryMiami Museum
X-ORIGINAL-URL:https://staging.historymiami.org
X-WR-CALDESC:Events for HistoryMiami Museum
BEGIN:VTIMEZONE
TZID:America/Chicago
BEGIN:DAYLIGHT
TZOFFSETFROM:-0600
TZOFFSETTO:-0500
TZNAME:CDT
DTSTART:20170312T080000
END:DAYLIGHT
BEGIN:STANDARD
TZOFFSETFROM:-0500
TZOFFSETTO:-0600
TZNAME:CST
DTSTART:20171105T070000
END:STANDARD
END:VTIMEZONE
BEGIN:VEVENT
DTSTART;TZID=America/Chicago:20171209T200000
DTEND;TZID=America/Chicago:20171209T220000
DTSTAMP:20260419T141853
CREATED:20171210T044500Z
LAST-MODIFIED:20220614T071518Z
UID:17144-1512849600-1512856800@staging.historymiami.org
SUMMARY:Miami Street Photography Festival Closing Party
DESCRIPTION:Join us Saturday night as we close out our festival with a party! Enjoy drinks\, sponsored by Titos\, music\, and light bites as you peruse the galleries. Mingle with some of the world’s top photographers\, and snap your own photos at our outdoor photo exhibit. Registration required. Click here for tickets. Tickets are limited.
URL:https://staging.historymiami.org/event/miami-street-photography-festival-closing-party/
CATEGORIES:Previous Event
ATTACH;FMTTYPE=image/jpeg:https://staging.historymiami.org/wp-content/uploads/smaller-photo-scaled.jpg
END:VEVENT
END:VCALENDAR