BEGIN:VCALENDAR
VERSION:2.0
PRODID:-//HistoryMiami Museum - ECPv5.15.0.1//NONSGML v1.0//EN
CALSCALE:GREGORIAN
METHOD:PUBLISH
X-WR-CALNAME:HistoryMiami Museum
X-ORIGINAL-URL:https://staging.historymiami.org
X-WR-CALDESC:Events for HistoryMiami Museum
BEGIN:VTIMEZONE
TZID:America/Chicago
BEGIN:DAYLIGHT
TZOFFSETFROM:-0600
TZOFFSETTO:-0500
TZNAME:CDT
DTSTART:20190310T080000
END:DAYLIGHT
BEGIN:STANDARD
TZOFFSETFROM:-0500
TZOFFSETTO:-0600
TZNAME:CST
DTSTART:20191103T070000
END:STANDARD
END:VTIMEZONE
BEGIN:VEVENT
DTSTART;TZID=America/Chicago:20190315T180000
DTEND;TZID=America/Chicago:20190315T210000
DTSTAMP:20260421T034555
CREATED:20190104T035300Z
LAST-MODIFIED:20220614T070117Z
UID:16953-1552672800-1552683600@staging.historymiami.org
SUMMARY:SOLD OUT - Opening Party: Queer Miami:  A History of LGBTQ Communities
DESCRIPTION:Get a first look at our newest exhibition with a Friday night opening party! Enjoy music\, complimentary beverages\, and more. =NO TICKETS WILL BE SOLD AT THE DOOR.
URL:https://staging.historymiami.org/event/opening-party-queer-miami-a-history-of-lgbtq-communities/
CATEGORIES:Previous Event
END:VEVENT
END:VCALENDAR