BEGIN:VCALENDAR
VERSION:2.0
PRODID:-//HistoryMiami Museum - ECPv5.15.0.1//NONSGML v1.0//EN
CALSCALE:GREGORIAN
METHOD:PUBLISH
X-WR-CALNAME:HistoryMiami Museum
X-ORIGINAL-URL:https://staging.historymiami.org
X-WR-CALDESC:Events for HistoryMiami Museum
BEGIN:VTIMEZONE
TZID:America/Chicago
BEGIN:DAYLIGHT
TZOFFSETFROM:-0600
TZOFFSETTO:-0500
TZNAME:CDT
DTSTART:20170312T080000
END:DAYLIGHT
BEGIN:STANDARD
TZOFFSETFROM:-0500
TZOFFSETTO:-0600
TZNAME:CST
DTSTART:20171105T070000
END:STANDARD
END:VTIMEZONE
BEGIN:VEVENT
DTSTART;TZID=America/Chicago:20171026T180000
DTEND;TZID=America/Chicago:20171026T200000
DTSTAMP:20260419T161029
CREATED:20171002T205500Z
LAST-MODIFIED:20220614T071809Z
UID:17206-1509040800-1509048000@staging.historymiami.org
SUMMARY:Opening Reception for South Beach\, 1974-1990: Photographs of a Jewish Community
DESCRIPTION:Join us for the opening of South Beach\, 1974-1990: Photographs of a Jewish Community. This photography exhibition explores South Beach the way it was. During the 1970s and 1980s\, highlighted photographers Gay Block\, Gary Monroe\, Richard Nagler\, David Scheinbaum\, and Andy Sweet each undertook long-term documentation projects of South Beach\, before the neighborhood transformed into today’s world famous tourist and nightlife destination. \nLight bites and cocktails will be served. \nRegister here. \nMembers: FREE \nNon-Members: $10 \nNot a member? Join now.
URL:https://staging.historymiami.org/event/opening-reception-for-south-beach-1974-1990-photographs-of-a-jewish-community/
CATEGORIES:Previous Event
ATTACH;FMTTYPE=image/jpeg:https://staging.historymiami.org/wp-content/uploads/Block4.jpg
END:VEVENT
END:VCALENDAR