BEGIN:VCALENDAR
VERSION:2.0
PRODID:-//HistoryMiami Museum - ECPv5.15.0.1//NONSGML v1.0//EN
CALSCALE:GREGORIAN
METHOD:PUBLISH
X-WR-CALNAME:HistoryMiami Museum
X-ORIGINAL-URL:https://staging.historymiami.org
X-WR-CALDESC:Events for HistoryMiami Museum
BEGIN:VTIMEZONE
TZID:America/Chicago
BEGIN:DAYLIGHT
TZOFFSETFROM:-0600
TZOFFSETTO:-0500
TZNAME:CDT
DTSTART:20180311T080000
END:DAYLIGHT
BEGIN:STANDARD
TZOFFSETFROM:-0500
TZOFFSETTO:-0600
TZNAME:CST
DTSTART:20181104T070000
END:STANDARD
END:VTIMEZONE
BEGIN:VEVENT
DTSTART;TZID=America/Chicago:20180915T100000
DTEND;TZID=America/Chicago:20180915T120000
DTSTAMP:20260419T091312
CREATED:20180525T005100Z
LAST-MODIFIED:20220614T070700Z
UID:17065-1537005600-1537012800@staging.historymiami.org
SUMMARY:Dr. Paul George and the Peacocks
DESCRIPTION:Members-Only Tour    SOLD OUT!\nPeacock Park\, Coconut Grove \nStroll through time with historian Dr. Paul George as he unfolds the history of Coconut Grove\, the Peacock Inn and St. Stephen’s Church.  This is a free tour of Peacock Park for members only and requires pre-registration. Limited to two members per household and a total of 30 members for the tour. \nRegister Here\n  \nImage credit:  Christmas party at the Bay View Inn (Peacock Inn) \, 1886. Ralph Munroe\, photographer. HistoryMiami Museum\, Munroe 89A.
URL:https://staging.historymiami.org/event/paul-george-and-the-peacocks/
CATEGORIES:Previous Event
ATTACH;FMTTYPE=image/jpeg:https://staging.historymiami.org/wp-content/uploads/Munroe-89A-2.jpg
END:VEVENT
END:VCALENDAR