BEGIN:VCALENDAR
VERSION:2.0
PRODID:-//HistoryMiami Museum - ECPv5.15.0.1//NONSGML v1.0//EN
CALSCALE:GREGORIAN
METHOD:PUBLISH
X-WR-CALNAME:HistoryMiami Museum
X-ORIGINAL-URL:https://staging.historymiami.org
X-WR-CALDESC:Events for HistoryMiami Museum
BEGIN:VTIMEZONE
TZID:America/Chicago
BEGIN:DAYLIGHT
TZOFFSETFROM:-0600
TZOFFSETTO:-0500
TZNAME:CDT
DTSTART:20160313T080000
END:DAYLIGHT
BEGIN:STANDARD
TZOFFSETFROM:-0500
TZOFFSETTO:-0600
TZNAME:CST
DTSTART:20161106T070000
END:STANDARD
END:VTIMEZONE
BEGIN:VEVENT
DTSTART;TZID=America/Chicago:20161015T140000
DTEND;TZID=America/Chicago:20161015T150000
DTSTAMP:20260420T065431
CREATED:20160803T205500Z
LAST-MODIFIED:20220613T083510Z
UID:17432-1476540000-1476543600@staging.historymiami.org
SUMMARY:FREE Performance: Celebrating Indian Festivals
DESCRIPTION:Experience the Indian festivals of Navratri and Diwali with dancer Ranjana Warier. Take part in this interactive presentation of the music\, dance\, and customs performed during these two Fall Indian holidays. Feel as if you’re celebrating in India in our decorated Folklife Gallery!\nREGISTER \nArtist-in-Residence performance is presented with the support of Miami Dade County\, Culture Builds Florida\, NEA Artworks and South Florida Hindu Temple.
URL:https://staging.historymiami.org/event/performance-celebrating-indian-festivals/
CATEGORIES:Previous Event
ATTACH;FMTTYPE=image/jpeg:https://staging.historymiami.org/wp-content/uploads/027-e1470240094690.jpg
END:VEVENT
END:VCALENDAR