BEGIN:VCALENDAR
VERSION:2.0
PRODID:-//HistoryMiami Museum - ECPv5.15.0.1//NONSGML v1.0//EN
CALSCALE:GREGORIAN
METHOD:PUBLISH
X-WR-CALNAME:HistoryMiami Museum
X-ORIGINAL-URL:https://staging.historymiami.org
X-WR-CALDESC:Events for HistoryMiami Museum
BEGIN:VTIMEZONE
TZID:America/Chicago
BEGIN:DAYLIGHT
TZOFFSETFROM:-0600
TZOFFSETTO:-0500
TZNAME:CDT
DTSTART:20180311T080000
END:DAYLIGHT
BEGIN:STANDARD
TZOFFSETFROM:-0500
TZOFFSETTO:-0600
TZNAME:CST
DTSTART:20181104T070000
END:STANDARD
END:VTIMEZONE
BEGIN:VEVENT
DTSTART;TZID=America/Chicago:20180118T193000
DTEND;TZID=America/Chicago:20180118T213000
DTSTAMP:20260419T160354
CREATED:20171122T000500Z
LAST-MODIFIED:20220614T071515Z
UID:17174-1516303800-1516311000@staging.historymiami.org
SUMMARY:Tower Talk and Walk
DESCRIPTION:Young Professionals Event\nTower Theater\, Little Havana \nCalling all young professionals to join HistoryMiami Museum and the CubaOne Foundation* for a fun evening\, starting at the Tower Theater. Raise your glass to the history of this historic theater and then take a stroll with historian Dr. Paul George through this iconic neighborhood to learn about the history and evolution of Miami’s own National Treasure\, Little Havana. \n*CubaOne Foundation offers a new generation of Cuban Americans the opportunity to give back to Cuba\, build relationships with the Cuban people\, and explore its heritage through high-impact trips to the island. \nThis is a free event but space is limited. Register today! \n \nQuestions? Call member Services at 305-375-1618. \n 
URL:https://staging.historymiami.org/event/tower-talk-and-walk/
CATEGORIES:Previous Event
ATTACH;FMTTYPE=image/jpeg:https://staging.historymiami.org/wp-content/uploads/tower-theater-e1511287379162.jpg
END:VEVENT
END:VCALENDAR